2.00000000000000
0.00000000000000
0.00000000000000
-2.00000000000000
718335.62500000000000
3238352.50000000000000
