0.00000318086560
0.00000000000000
0.00000000000000
-0.00000274931560
-94.46875096056641
31.18749867392400
