0.00000318086560
0.00000000000000
0.00000000000000
-0.00000274931560
-94.31249972356160
31.21874969618040
