0.00000318086560
0.00000000000000
0.00000000000000
-0.00000274931560
-94.59374943604961
30.96874937821000
