0.00000318086560
0.00000000000000
0.00000000000000
-0.00000274931560
-94.28125089990721
30.81249982586200
