0.00000318086560
0.00000000000000
0.00000000000000
-0.00000274931560
-94.21875007173280
30.81249982586200
