0.00000318334880
0.00000000000000
0.00000000000000
-0.00000274928350
-94.03125022511681
30.84374956086300
