0.00000318086560
0.00000000000000
0.00000000000000
-0.00000274931560
-94.43749895604641
30.71875136138640
