0.00000318086560
0.00000000000000
0.00000000000000
-0.00000274931560
-94.34374854721599
30.68749944279240
