0.00000318334880
0.00000000000000
0.00000000000000
-0.00000274928350
-94.06250116028640
30.65625117544650
