0.00000318086560
0.00000000000000
0.00000000000000
-0.00000274931560
-94.78125116357120
30.53125033861320
