0.00000318086560
0.00000000000000
0.00000000000000
-0.00000274931560
-94.65624950722240
30.56249905972280
