0.00000318086560
0.00000000000000
0.00000000000000
-0.00000274931560
-94.62500144056960
30.56249950789160
