0.00000318086560
0.00000000000000
0.00000000000000
-0.00000274931560
-94.53124860787521
30.59375097831680
