0.00000318334880
0.00000000000000
0.00000000000000
-0.00000274928350
-94.09374891210720
30.62500006990200
