0.00000318086560
0.00000000000000
0.00000000000000
-0.00000274931560
-94.81249680636000
30.46875014707840
