0.00000318086560
0.00000000000000
0.00000000000000
-0.00000274931560
-94.71875033539681
30.40624995554360
