0.00000318086560
0.00000000000000
0.00000000000000
-0.00000274931560
-94.18750124807841
30.40624995554360
