0.00000318086560
0.00000000000000
0.00000000000000
-0.00000274931560
-94.15624924355841
30.43749867665320
