0.00000318334880
0.00000000000000
0.00000000000000
-0.00000274928350
-94.12499984727680
30.46875004074650
