0.00000318334880
0.00000000000000
0.00000000000000
-0.00000274928350
-94.65624664506720
30.28124890604650
