0.00000318086560
0.00000000000000
0.00000000000000
-0.00000274931560
-94.74999915905120
30.31250104289920
