0.00000318334880
0.00000000000000
0.00000000000000
-0.00000274928350
-94.62499570989760
30.28124890604650
