0.00000318086560
0.00000000000000
0.00000000000000
-0.00000274931560
-94.56250061239521
30.31249874175240
