0.00000318086560
0.00000000000000
0.00000000000000
-0.00000274931560
-94.40624937539040
30.31250104289920
