0.00000318086560
0.00000000000000
0.00000000000000
-0.00000274931560
-94.49999978422080
30.34375021217760
