0.00000318086560
0.00000000000000
0.00000000000000
-0.00000274931560
-94.37500055173601
30.28124957247400
