0.00000316020080
0.00000000000000
0.00000000000000
-0.00000274958540
-94.12500124943199
30.37500121739480
