0.00000315522120
0.00000000000000
0.00000000000000
-0.00000274965070
-94.78124896074119
30.25000115606320
