0.00000315522120
0.00000000000000
0.00000000000000
-0.00000274965070
-94.74999964997640
30.18749884600150
