0.00000315522120
0.00000000000000
0.00000000000000
-0.00000274965070
-94.71875033921160
30.21874862620700
