0.00000315522120
0.00000000000000
0.00000000000000
-0.00000274965070
-94.28125052284079
30.15624906579600
