0.00000315522120
0.00000000000000
0.00000000000000
-0.00000274965070
-94.31249915060521
30.18749891471480
