0.00000316020080
0.00000000000000
0.00000000000000
-0.00000274958540
-94.03125073249919
30.15624959932080
