0.00000315522120
0.00000000000000
0.00000000000000
-0.00000274965070
-94.62499925169600
30.06249972517950
