0.00000315522120
0.00000000000000
0.00000000000000
-0.00000274965070
-94.40625034729359
30.03124958234770
