0.00000315522120
0.00000000000000
0.00000000000000
-0.00000274965070
-94.34374857054280
30.09374914275870
