0.00000316020080
0.00000000000000
0.00000000000000
-0.00000274958540
-93.90624873306160
30.40625020073480
