0.00000318334880
0.00000000000000
0.00000000000000
-0.00000274928350
-93.96875153812640
30.43749893520200
