0.00000318334880
0.00000000000000
0.00000000000000
-0.00000274928350
-93.84375055283201
30.43750118655850
