0.00000316020080
0.00000000000000
0.00000000000000
-0.00000274958540
-93.74999918170080
30.40625015264500
