0.00000318334880
0.00000000000000
0.00000000000000
-0.00000274928350
-93.68749906033281
30.43750118655850
