0.00000318334880
0.00000000000000
0.00000000000000
-0.00000274928350
-93.53125090813280
30.43750113096400
