0.00000318334880
0.00000000000000
0.00000000000000
-0.00000274928350
-93.59374959512320
30.50000059276950
