0.00000318334880
0.00000000000000
0.00000000000000
-0.00000274928350
-93.40625035080321
30.43750113096400
