0.00000316000140
0.00000000000000
0.00000000000000
-0.00000274958770
-93.34375133524941
30.40624904958430
