0.00000316020080
0.00000000000000
0.00000000000000
-0.00000274958540
-93.78125015061840
30.34374937500740
