0.00000316020080
0.00000000000000
0.00000000000000
-0.00000274958540
-93.87500092434479
30.34374942973840
