0.00000316020080
0.00000000000000
0.00000000000000
-0.00000274958540
-93.68749989047919
30.37500111457400
