0.00000316000140
0.00000000000000
0.00000000000000
-0.00000274958770
-93.21875115986961
30.37499998537380
